BEGIN:VCALENDAR
VERSION:2.0
PRODID:-//Second Alarm Project - ECPv6.15.20//NONSGML v1.0//EN
CALSCALE:GREGORIAN
METHOD:PUBLISH
X-ORIGINAL-URL:https://2ndalarmproject.org
X-WR-CALDESC:Events for Second Alarm Project
REFRESH-INTERVAL;VALUE=DURATION:PT1H
X-Robots-Tag:noindex
X-PUBLISHED-TTL:PT1H
BEGIN:VTIMEZONE
TZID:UTC
BEGIN:STANDARD
TZOFFSETFROM:+0000
TZOFFSETTO:+0000
TZNAME:UTC
DTSTART:20240101T000000
END:STANDARD
END:VTIMEZONE
BEGIN:VEVENT
DTSTART;TZID=UTC:20250828T130000
DTEND;TZID=UTC:20250828T143000
DTSTAMP:20260423T110249
CREATED:20250702T200251Z
LAST-MODIFIED:20250702T200541Z
UID:10000092-1756386000-1756391400@2ndalarmproject.org
SUMMARY:Redefining Readiness: Mental Wellness in the Fire Service (Virtual)
DESCRIPTION:For too long\, operational readiness in the fire service has focused solely on skills and fitness. But true preparedness also requires mental resilience. In this powerful session –  Lt. Jeff Orrange challenges traditional training models and makes the case for embedding mental wellness into every level of first responder development—from the academy to the field. \nLearn practical strategies to build a proactive\, resilient culture that values the mind as much as the body. Because peak performance starts with mental strength.
URL:https://2ndalarmproject.org/event/redefining-readiness-mental-wellness-in-the-fire-service-virtual/
CATEGORIES:Virtual
END:VEVENT
BEGIN:VEVENT
DTSTART;TZID=UTC:20250923T100000
DTEND;TZID=UTC:20250923T113000
DTSTAMP:20260423T110249
CREATED:20250818T173903Z
LAST-MODIFIED:20250820T154322Z
UID:10000093-1758621600-1758627000@2ndalarmproject.org
SUMMARY:Webinar: Zero Suicide Framework for First Responders (Virtual)
DESCRIPTION:Webinar Description : Suicide prevention with first responders requires more than good intentions\, it takes a plan. The Zero Suicide Framework is a nationally recognized\, evidence-informed\, system-wide strategy that calls for strong organizational commitment and the integration of prevention practices from leadership through the front lines. This webinar explores how the framework has been adapted… for first responder agencies to strengthen resilience\, reduce risk\, and embed a culture of safety and support. \nParticipants will learn the following: \n-Each core element of the Zero Suicide Framework and its purpose \n-How to adapt and apply these elements specifically in first responder environments \n-Actionable strategies for implementing the model \n-An operational case study demonstrating how the model was successfully adapted at the statewide level \nJoin us to explore how the Zero Suicide Framework can transform how first responder agencies address suicide risk and prevention.
URL:https://2ndalarmproject.org/event/webinar-zero-suicide-framework-for-the-fire-service-virtual/
CATEGORIES:Virtual
END:VEVENT
BEGIN:VEVENT
DTSTART;TZID=UTC:20251024T103000
DTEND;TZID=UTC:20251024T120000
DTSTAMP:20260423T110249
CREATED:20250904T134423Z
LAST-MODIFIED:20250904T134616Z
UID:10000094-1761301800-1761307200@2ndalarmproject.org
SUMMARY:Webinar: A Look at the Chaplaincy – Policies\, Programs\, and Pathways (Virtual)
DESCRIPTION:Description: Chaplains\, alongside mental health professionals\, peer support personnel\, and K-9 peer support\, provide comfort and care for the heart\, soul\, mind\, and strength of Florida firefighters. \nBut what does the chaplaincy look like? How does a department start a chaplain program? What policies and procedures are needed? \nJoin us as we discuss these questions… and more with Chaplain Joe LaCognata\, Statewide Chaplaincy Coordinator with the Florida Firefighter Safety and Health Collaborative.
URL:https://2ndalarmproject.org/event/webinar-a-look-at-the-chaplaincy-policies-programs-and-pathways-virtual/
CATEGORIES:Virtual
END:VEVENT
BEGIN:VEVENT
DTSTART;TZID=UTC:20251106T100000
DTEND;TZID=UTC:20251106T113000
DTSTAMP:20260423T110249
CREATED:20250930T195613Z
LAST-MODIFIED:20250930T210155Z
UID:10000100-1762423200-1762428600@2ndalarmproject.org
SUMMARY:Webinar: ELEVATE The Seminole County Sheriff’s Office Wellness Program
DESCRIPTION:Description: This program is built on the 11 RINGS OF WELLNESS\, a holistic framework addressing physical health\, emotional well-being\, family dynamics\, spiritual strength\, social connection\, mental toughness\, resilience\, financial stability\, occupational fulfillment\, and leadership capacity. \nMembers will gain insight to a trusted hub for resources\, advocacy\, and support. From stress management workshops and fitness opportunities… to nutrition guidance\, financial planning\, and confidential peer support\, this program is designed to elevate every member of the agency.
URL:https://2ndalarmproject.org/event/webinar-elevate-the-seminole-county-sheriffs-office-wellness-program/
CATEGORIES:Virtual
END:VEVENT
END:VCALENDAR